Workbook

Sheet Budget
A1: Budget prévisionnel de restaurant
A2: Les cellules jaunes sont à remplir. Tout le reste se calcule.
A4: Poste | B4: Janv. | C4: Févr. | D4: Mars | E4: Avr. | F4: Mai | G4: Juin | H4: Juil. | I4: Août | J4: Sept. | K4: Oct. | L4: Nov. | M4: Déc. | N4: Année | O4: % du CA
A5: Couverts | B5: ='Hypothèses'!B5*'Hypothèses'!B6 -> 1820 | C5: ='Hypothèses'!C5*'Hypothèses'!C6 -> 1776 | D5: ='Hypothèses'!D5*'Hypothèses'!D6 -> 2214 | E5: ='Hypothèses'!E5*'Hypothèses'!E6 -> 2288 | F5: ='Hypothèses'!F5*'Hypothèses'!F6 -> 2565 | G5: ='Hypothèses'!G5*'Hypothèses'!G6 -> 2548 | H5: ='Hypothèses'!H5*'Hypothèses'!H6 -> 2808 | I5: ='Hypothèses'!I5*'Hypothèses'!I6 -> 2754 | ... M5: ='Hypothèses'!M5*'Hypothèses'!M6 -> 2800 | N5: =SUM(B5:M5) -> 28367
A6: Ventes
A7: Ventes cuisine | B7: ='Hypothèses'!B5*'Hypothèses'!B6*'Hypothèses'!B7 -> 40040 | C7: ='Hypothèses'!C5*'Hypothèses'!C6*'Hypothèses'!C7 -> 39072 | D7: ='Hypothèses'!D5*'Hypothèses'!D6*'Hypothèses'!D7 -> 48708 | E7: ='Hypothèses'!E5*'Hypothèses'!E6*'Hypothèses'!E7 -> 50336 | F7: ='Hypothèses'!F5*'Hypothèses'!F6*'Hypothèses'!F7 -> 56430 | G7: ='Hypothèses'!G5*'Hypothèses'!G6*'Hypothèses'!G7 -> 56056 | H7: ='Hypothèses'!H5*'Hypothèses'!H6*'Hypothèses'!H7 -> 61776 | I7: ='Hypothèses'!I5*'Hypothèses'!I6*'Hypothèses'!I7 -> 60588 | ... M7: ='Hypothèses'!M5*'Hypothèses'!M6*'Hypothèses'!M7 -> 67200 | N7: =SUM(B7:M7) -> 636468 | O7: =IFERROR(N7/N10,0) -> 0.703968
A8: Ventes boissons | B8: ='Hypothèses'!B5*'Hypothèses'!B6*'Hypothèses'!B8 -> 14560 | C8: ='Hypothèses'!C5*'Hypothèses'!C6*'Hypothèses'!C8 -> 14208 | D8: ='Hypothèses'!D5*'Hypothèses'!D6*'Hypothèses'!D8 -> 17712 | E8: ='Hypothèses'!E5*'Hypothèses'!E6*'Hypothèses'!E8 -> 19448 | F8: ='Hypothèses'!F5*'Hypothèses'!F6*'Hypothèses'!F8 -> 21802.5 | G8: ='Hypothèses'!G5*'Hypothèses'!G6*'Hypothèses'!G8 -> 22932 | H8: ='Hypothèses'!H5*'Hypothèses'!H6*'Hypothèses'!H8 -> 26676 | I8: ='Hypothèses'!I5*'Hypothèses'!I6*'Hypothèses'!I8 -> 26163 | ... M8: ='Hypothèses'!M5*'Hypothèses'!M6*'Hypothèses'!M8 -> 30800 | N8: =SUM(B8:M8) -> 253246.5 | O8: =IFERROR(N8/N10,0) -> 0.280104
A9: Autres ventes (événements, boutique) | B9: ='Hypothèses'!B9 -> 0 | C9: ='Hypothèses'!C9 -> 600 | D9: ='Hypothèses'!D9 -> 0 | E9: ='Hypothèses'!E9 -> 800 | F9: ='Hypothèses'!F9 -> 1200 | G9: ='Hypothèses'!G9 -> 1500 | H9: ='Hypothèses'!H9 -> 1500 | I9: ='Hypothèses'!I9 -> 800 | ... M9: ='Hypothèses'!M9 -> 4500 | N9: =SUM(B9:M9) -> 14400 | O9: =IFERROR(N9/N10,0) -> 0.015927
A10: Chiffre d’affaires total | B10: =SUM(B7:B9) -> 54600 | C10: =SUM(C7:C9) -> 53880 | D10: =SUM(D7:D9) -> 66420 | E10: =SUM(E7:E9) -> 70584 | F10: =SUM(F7:F9) -> 79432.5 | G10: =SUM(G7:G9) -> 80488 | H10: =SUM(H7:H9) -> 89952 | I10: =SUM(I7:I9) -> 87551 | ... M10: =SUM(M7:M9) -> 102500 | N10: =SUM(B10:M10) -> 904114.5 | O10: =IFERROR(N10/N10,0) -> 1
A11: Coût matières
A12: Coût matières cuisine | B12: =B7*'Hypothèses'!$B$12 -> 12412.4 | C12: =C7*'Hypothèses'!$B$12 -> 12112.32 | D12: =D7*'Hypothèses'!$B$12 -> 15099.48 | E12: =E7*'Hypothèses'!$B$12 -> 15604.16 | F12: =F7*'Hypothèses'!$B$12 -> 17493.3 | G12: =G7*'Hypothèses'!$B$12 -> 17377.36 | H12: =H7*'Hypothèses'!$B$12 -> 19150.56 | I12: =I7*'Hypothèses'!$B$12 -> 18782.28 | ... M12: =M7*'Hypothèses'!$B$12 -> 20832 | N12: =SUM(B12:M12) -> 197305.08 | O12: =IFERROR(N12/N10,0) -> 0.21823
A13: Coût matières boissons | B13: =B8*'Hypothèses'!$B$13 -> 3640 | C13: =C8*'Hypothèses'!$B$13 -> 3552 | D13: =D8*'Hypothèses'!$B$13 -> 4428 | E13: =E8*'Hypothèses'!$B$13 -> 4862 | F13: =F8*'Hypothèses'!$B$13 -> 5450.625 | G13: =G8*'Hypothèses'!$B$13 -> 5733 | H13: =H8*'Hypothèses'!$B$13 -> 6669 | I13: =I8*'Hypothèses'!$B$13 -> 6540.75 | ... M13: =M8*'Hypothèses'!$B$13 -> 7700 | N13: =SUM(B13:M13) -> 63311.625 | O13: =IFERROR(N13/N10,0) -> 0.070026
A14: Coût matières total | B14: =SUM(B12:B13) -> 16052.4 | C14: =SUM(C12:C13) -> 15664.32 | D14: =SUM(D12:D13) -> 19527.48 | E14: =SUM(E12:E13) -> 20466.16 | F14: =SUM(F12:F13) -> 22943.925 | G14: =SUM(G12:G13) -> 23110.36 | H14: =SUM(H12:H13) -> 25819.56 | I14: =SUM(I12:I13) -> 25323.03 | ... M14: =SUM(M12:M13) -> 28532 | N14: =SUM(B14:M14) -> 260616.7 | O14: =IFERROR(N14/N10,0) -> 0.288256
A15: Marge brute | B15: =B10-B14 -> 38547.6 | C15: =C10-C14 -> 38215.68 | D15: =D10-D14 -> 46892.52 | E15: =E10-E14 -> 50117.84 | F15: =F10-F14 -> 56488.575 | G15: =G10-G14 -> 57377.64 | H15: =H10-H14 -> 64132.44 | I15: =I10-I14 -> 62227.97 | ... M15: =M10-M14 -> 73968 | N15: =SUM(B15:M15) -> 643497.8 | O15: =IFERROR(N15/N10,0) -> 0.711744
A16: Personnel
A17: Salaires cuisine | B17: 9400 | C17: 9400 | D17: 9400 | E17: 9400 | F17: 9400 | G17: 10200 | H17: 10200 | I17: 10200 | J17: 9400 | K17: 9400 | L17: 9400 | M17: 10600 | N17: =SUM(B17:M17) -> 116400 | O17: =IFERROR(N17/N10,0) -> 0.128745
A18: Salaires salle | B18: 8200 | C18: 8200 | D18: 8200 | E18: 8200 | F18: 8200 | G18: 9200 | H18: 9200 | I18: 9200 | J18: 8200 | K18: 8200 | L18: 8200 | M18: 10000 | N18: =SUM(B18:M18) -> 103200 | O18: =IFERROR(N18/N10,0) -> 0.114145
A19: Salaires encadrement | B19: 4800 | C19: 4800 | D19: 4800 | E19: 4800 | F19: 4800 | G19: 4800 | H19: 4800 | I19: 4800 | J19: 4800 | K19: 4800 | L19: 4800 | M19: 4800 | N19: =SUM(B19:M19) -> 57600 | O19: =IFERROR(N19/N10,0) -> 0.063709
A20: Charges sociales et avantages | B20: =SUM(B17:B19)*'Hypothèses'!$B$14 -> 4480 | C20: =SUM(C17:C19)*'Hypothèses'!$B$14 -> 4480 | D20: =SUM(D17:D19)*'Hypothèses'!$B$14 -> 4480 | E20: =SUM(E17:E19)*'Hypothèses'!$B$14 -> 4480 | F20: =SUM(F17:F19)*'Hypothèses'!$B$14 -> 4480 | G20: =SUM(G17:G19)*'Hypothèses'!$B$14 -> 4840 | H20: =SUM(H17:H19)*'Hypothèses'!$B$14 -> 4840 | I20: =SUM(I17:I19)*'Hypothèses'!$B$14 -> 4840 | ... M20: =SUM(M17:M19)*'Hypothèses'!$B$14 -> 5080 | N20: =SUM(B20:M20) -> 55440 | O20: =IFERROR(N20/N10,0) -> 0.06132
A21: Personnel total | B21: =SUM(B17:B20) -> 26880 | C21: =SUM(C17:C20) -> 26880 | D21: =SUM(D17:D20) -> 26880 | E21: =SUM(E17:E20) -> 26880 | F21: =SUM(F17:F20) -> 26880 | G21: =SUM(G17:G20) -> 29040 | H21: =SUM(H17:H20) -> 29040 | I21: =SUM(I17:I20) -> 29040 | ... M21: =SUM(M17:M20) -> 30480 | N21: =SUM(B21:M21) -> 332640 | O21: =IFERROR(N21/N10,0) -> 0.367918
A22: Prime cost (coût matières + personnel) | B22: =B14+B21 -> 42932.4 | C22: =C14+C21 -> 42544.32 | D22: =D14+D21 -> 46407.48 | E22: =E14+E21 -> 47346.16 | F22: =F14+F21 -> 49823.925 | G22: =G14+G21 -> 52150.36 | H22: =H14+H21 -> 54859.56 | I22: =I14+I21 -> 54363.03 | ... M22: =M14+M21 -> 59012 | N22: =SUM(B22:M22) -> 593256.7 | O22: =IFERROR(N22/N10,0) -> 0.656174
A23: Frais d’exploitation
A24: Frais de carte bancaire | B24: =B10*'Hypothèses'!$B$15 -> 873.6 | C24: =C10*'Hypothèses'!$B$15 -> 862.08 | D24: =D10*'Hypothèses'!$B$15 -> 1062.72 | E24: =E10*'Hypothèses'!$B$15 -> 1129.344 | F24: =F10*'Hypothèses'!$B$15 -> 1270.92 | G24: =G10*'Hypothèses'!$B$15 -> 1287.808 | H24: =H10*'Hypothèses'!$B$15 -> 1439.232 | I24: =I10*'Hypothèses'!$B$15 -> 1400.816 | ... M24: =M10*'Hypothèses'!$B$15 -> 1640 | N24: =SUM(B24:M24) -> 14465.832 | O24: =IFERROR(N24/N10,0) -> 0.016
A25: Marketing | B25: 1100 | C25: 1100 | D25: 1400 | E25: 1100 | F25: 1100 | G25: 1100 | H25: 1100 | I25: 1100 | J25: 1100 | K25: 1100 | L25: 1800 | M25: 1400 | N25: =SUM(B25:M25) -> 14500 | O25: =IFERROR(N25/N10,0) -> 0.016038
A26: Entretien et réparations | B26: 850 | C26: 850 | D26: 850 | E26: 850 | F26: 850 | G26: 850 | H26: 850 | I26: 850 | J26: 850 | K26: 850 | L26: 850 | M26: 850 | N26: =SUM(B26:M26) -> 10200 | O26: =IFERROR(N26/N10,0) -> 0.011282
A27: Petit matériel et fournitures | B27: 600 | C27: 600 | D27: 600 | E27: 600 | F27: 600 | G27: 600 | H27: 600 | I27: 600 | J27: 600 | K27: 600 | L27: 600 | M27: 900 | N27: =SUM(B27:M27) -> 7500 | O27: =IFERROR(N27/N10,0) -> 0.008295
A28: Nettoyage et blanchisserie | B28: 850 | C28: 850 | D28: 850 | E28: 850 | F28: 850 | G28: 850 | H28: 850 | I28: 850 | J28: 850 | K28: 850 | L28: 850 | M28: 850 | N28: =SUM(B28:M28) -> 10200 | O28: =IFERROR(N28/N10,0) -> 0.011282
A29: Énergie et eau | B29: 2700 | C29: 2600 | D29: 2400 | E29: 2200 | F29: 2100 | G29: 2300 | H29: 2600 | I29: 2600 | J29: 2200 | K29: 2300 | L29: 2500 | M29: 2900 | N29: =SUM(B29:M29) -> 29400 | O29: =IFERROR(N29/N10,0) -> 0.032518
A30: Logiciels et abonnements | B30: 600 | C30: 600 | D30: 600 | E30: 600 | F30: 600 | G30: 600 | H30: 600 | I30: 600 | J30: 600 | K30: 600 | L30: 600 | M30: 600 | N30: =SUM(B30:M30) -> 7200 | O30: =IFERROR(N30/N10,0) -> 0.007964
A31: Comptabilité et juridique | B31: 750 | C31: 750 | D31: 750 | E31: 750 | F31: 750 | G31: 750 | H31: 750 | I31: 750 | J31: 750 | K31: 750 | L31: 750 | M31: 750 | N31: =SUM(B31:M31) -> 9000 | O31: =IFERROR(N31/N10,0) -> 0.009954
A32: Frais d’exploitation totaux | B32: =SUM(B24:B31) -> 8323.6 | C32: =SUM(C24:C31) -> 8212.08 | D32: =SUM(D24:D31) -> 8512.72 | E32: =SUM(E24:E31) -> 8079.344 | F32: =SUM(F24:F31) -> 8120.92 | G32: =SUM(G24:G31) -> 8337.808 | H32: =SUM(H24:H31) -> 8789.232 | I32: =SUM(I24:I31) -> 8750.816 | ... M32: =SUM(M24:M31) -> 9890 | N32: =SUM(B32:M32) -> 102465.83 | O32: =IFERROR(N32/N10,0) -> 0.113333
A33: Locaux
A34: Loyer | B34: 6800 | C34: 6800 | D34: 6800 | E34: 6800 | F34: 6800 | G34: 6800 | H34: 6800 | I34: 6800 | J34: 6800 | K34: 6800 | L34: 6800 | M34: 6800 | N34: =SUM(B34:M34) -> 81600 | O34: =IFERROR(N34/N10,0) -> 0.090254
A35: Taxe foncière et charges | B35: 950 | C35: 950 | D35: 950 | E35: 950 | F35: 950 | G35: 950 | H35: 950 | I35: 950 | J35: 950 | K35: 950 | L35: 950 | M35: 950 | N35: =SUM(B35:M35) -> 11400 | O35: =IFERROR(N35/N10,0) -> 0.012609
A36: Assurances | B36: 450 | C36: 450 | D36: 450 | E36: 450 | F36: 450 | G36: 450 | H36: 450 | I36: 450 | J36: 450 | K36: 450 | L36: 450 | M36: 450 | N36: =SUM(B36:M36) -> 5400 | O36: =IFERROR(N36/N10,0) -> 0.005973
A37: Locaux total | B37: =SUM(B34:B36) -> 8200 | C37: =SUM(C34:C36) -> 8200 | D37: =SUM(D34:D36) -> 8200 | E37: =SUM(E34:E36) -> 8200 | F37: =SUM(F34:F36) -> 8200 | G37: =SUM(G34:G36) -> 8200 | H37: =SUM(H34:H36) -> 8200 | I37: =SUM(I34:I36) -> 8200 | ... M37: =SUM(M34:M36) -> 8200 | N37: =SUM(B37:M37) -> 98400 | O37: =IFERROR(N37/N10,0) -> 0.108836
A38: Résultat d’exploitation (EBITDA) | B38: =B15-B21-B32-B37 -> -4856 | C38: =C15-C21-C32-C37 -> -5076.4 | D38: =D15-D21-D32-D37 -> 3299.8 | E38: =E15-E21-E32-E37 -> 6958.496 | F38: =F15-F21-F32-F37 -> 13287.655 | G38: =G15-G21-G32-G37 -> 11799.832 | H38: =H15-H21-H32-H37 -> 18103.208 | I38: =I15-I21-I32-I37 -> 16237.154 | ... M38: =M15-M21-M32-M37 -> 25398 | N38: =SUM(B38:M38) -> 109991.96 | O38: =IFERROR(N38/N10,0) -> 0.121657
A39: Amortissements | B39: 1500 | C39: 1500 | D39: 1500 | E39: 1500 | F39: 1500 | G39: 1500 | H39: 1500 | I39: 1500 | J39: 1500 | K39: 1500 | L39: 1500 | M39: 1500 | N39: =SUM(B39:M39) -> 18000 | O39: =IFERROR(N39/N10,0) -> 0.019909
A40: Intérêts d’emprunt | B40: 450 | C40: 450 | D40: 450 | E40: 450 | F40: 450 | G40: 450 | H40: 450 | I40: 450 | J40: 450 | K40: 450 | L40: 450 | M40: 450 | N40: =SUM(B40:M40) -> 5400 | O40: =IFERROR(N40/N10,0) -> 0.005973
A41: Résultat avant impôt | B41: =B38-B39-B40 -> -6806 | C41: =C38-C39-C40 -> -7026.4 | D41: =D38-D39-D40 -> 1349.8 | E41: =E38-E39-E40 -> 5008.496 | F41: =F38-F39-F40 -> 11337.655 | G41: =G38-G39-G40 -> 9849.832 | H41: =H38-H39-H40 -> 16153.208 | I41: =I38-I39-I40 -> 14287.154 | ... M41: =M38-M39-M40 -> 23448 | N41: =SUM(B41:M41) -> 86591.963 | O41: =IFERROR(N41/N10,0) -> 0.095775
...

Sheet Hypothèses
A1: Budget prévisionnel de restaurant
A2: Les cellules jaunes sont à remplir. Tout le reste se calcule.
A4: Hypothèse | B4: Janv. | C4: Févr. | D4: Mars | E4: Avr. | F4: Mai | G4: Juin | H4: Juil. | I4: Août | J4: Sept. | K4: Oct. | L4: Nov. | M4: Déc. | N4: Année
A5: Jours d’ouverture | B5: 26 | C5: 24 | D5: 27 | E5: 26 | F5: 27 | G5: 26 | H5: 27 | I5: 27 | J5: 26 | K5: 27 | L5: 26 | M5: 25 | N5: =SUM(B5:M5) -> 314
A6: Couverts par jour | B6: 70 | C6: 74 | D6: 82 | E6: 88 | F6: 95 | G6: 98 | H6: 104 | I6: 102 | J6: 92 | K6: 86 | L6: 80 | M6: 112
A7: Dépense moyenne en cuisine par couvert | B7: 22 | C7: 22 | D7: 22 | E7: 22 | F7: 22 | G7: 22 | H7: 22 | I7: 22 | J7: 23 | K7: 23 | L7: 23 | M7: 24
A8: Dépense moyenne en boissons par couvert | B8: 8 | C8: 8 | D8: 8 | E8: 8.5 | F8: 8.5 | G8: 9 | H8: 9.5 | I8: 9.5 | J8: 9 | K8: 8.5 | L8: 8.5 | M8: 11
A9: Autres ventes (événements, boutique) | B9: 0 | C9: 600 | D9: 0 | E9: 800 | F9: 1200 | G9: 1500 | H9: 1500 | I9: 800 | J9: 1200 | K9: 800 | L9: 1500 | M9: 4500 | N9: =SUM(B9:M9) -> 14400
A11: Taux | B11: Valeur
A12: Coût matières cuisine, % des ventes cuisine | B12: 0.31
A13: Coût matières boissons, % des ventes boissons | B13: 0.25
A14: Charges sociales et avantages, % des salaires | B14: 0.2
A15: Frais de carte bancaire, % du CA total | B15: 0.016

Sheet Budget vs réel
A1: Budget vs réel
A2: Saisissez dans la colonne jaune les chiffres réels du mois, tirés de votre compte de résultat. Sur un poste de charge, un écart positif signifie que vous avez dépensé plus que prévu.
A4: Numéro du mois (1 à 12) | B4: 1
A5: Mois | B5: =INDEX('Budget'!$B$4:$M$4,$B$4) -> Janv.
A7: Poste | B7: Budget | C7: Réel | D7: Écart | E7: Écart %
A8: Couverts | B8: =INDEX('Budget'!$B$5:$M$5,$B$4) -> 1820 | D8: =IF(C8="","",C8-B8) | E8: =IF(OR(C8="",B8=0),"",(C8-B8)/ABS(B8))
A9: Ventes
A10: Ventes cuisine | B10: =INDEX('Budget'!$B$7:$M$7,$B$4) -> 40040 | D10: =IF(C10="","",C10-B10) | E10: =IF(OR(C10="",B10=0),"",(C10-B10)/ABS(B10))
A11: Ventes boissons | B11: =INDEX('Budget'!$B$8:$M$8,$B$4) -> 14560 | D11: =IF(C11="","",C11-B11) | E11: =IF(OR(C11="",B11=0),"",(C11-B11)/ABS(B11))
A12: Autres ventes (événements, boutique) | B12: =INDEX('Budget'!$B$9:$M$9,$B$4) -> 0 | D12: =IF(C12="","",C12-B12) | E12: =IF(OR(C12="",B12=0),"",(C12-B12)/ABS(B12))
A13: Chiffre d’affaires total | B13: =INDEX('Budget'!$B$10:$M$10,$B$4) -> 54600 | C13: =IF(COUNT(C8,C10,C11,C12,C15,C16,C20,C21,C22,C23,C27,C28,C29,C30,C31,C32,C33,C34,C37,C38,C39,C42,C43)=0,"",N(C10)+N(C11)+N(C12)) | D13: =IF(C13="","",C13-B13) | E13: =IF(OR(C13="",B13=0),"",(C13-B13)/ABS(B13))
A14: Coût matières
A15: Coût matières cuisine | B15: =INDEX('Budget'!$B$12:$M$12,$B$4) -> 12412.4 | D15: =IF(C15="","",C15-B15) | E15: =IF(OR(C15="",B15=0),"",(C15-B15)/ABS(B15))
A16: Coût matières boissons | B16: =INDEX('Budget'!$B$13:$M$13,$B$4) -> 3640 | D16: =IF(C16="","",C16-B16) | E16: =IF(OR(C16="",B16=0),"",(C16-B16)/ABS(B16))
A17: Coût matières total | B17: =INDEX('Budget'!$B$14:$M$14,$B$4) -> 16052.4 | C17: =IF(COUNT(C8,C10,C11,C12,C15,C16,C20,C21,C22,C23,C27,C28,C29,C30,C31,C32,C33,C34,C37,C38,C39,C42,C43)=0,"",N(C15)+N(C16)) | D17: =IF(C17="","",C17-B17) | E17: =IF(OR(C17="",B17=0),"",(C17-B17)/ABS(B17))
A18: Marge brute | B18: =INDEX('Budget'!$B$15:$M$15,$B$4) -> 38547.6 | C18: =IF(COUNT(C8,C10,C11,C12,C15,C16,C20,C21,C22,C23,C27,C28,C29,C30,C31,C32,C33,C34,C37,C38,C39,C42,C43)=0,"",N(C13)-N(C17)) | D18: =IF(C18="","",C18-B18) | E18: =IF(OR(C18="",B18=0),"",(C18-B18)/ABS(B18))
A19: Personnel
A20: Salaires cuisine | B20: =INDEX('Budget'!$B$17:$M$17,$B$4) -> 9400 | D20: =IF(C20="","",C20-B20) | E20: =IF(OR(C20="",B20=0),"",(C20-B20)/ABS(B20))
A21: Salaires salle | B21: =INDEX('Budget'!$B$18:$M$18,$B$4) -> 8200 | D21: =IF(C21="","",C21-B21) | E21: =IF(OR(C21="",B21=0),"",(C21-B21)/ABS(B21))
A22: Salaires encadrement | B22: =INDEX('Budget'!$B$19:$M$19,$B$4) -> 4800 | D22: =IF(C22="","",C22-B22) | E22: =IF(OR(C22="",B22=0),"",(C22-B22)/ABS(B22))
A23: Charges sociales et avantages | B23: =INDEX('Budget'!$B$20:$M$20,$B$4) -> 4480 | D23: =IF(C23="","",C23-B23) | E23: =IF(OR(C23="",B23=0),"",(C23-B23)/ABS(B23))
A24: Personnel total | B24: =INDEX('Budget'!$B$21:$M$21,$B$4) -> 26880 | C24: =IF(COUNT(C8,C10,C11,C12,C15,C16,C20,C21,C22,C23,C27,C28,C29,C30,C31,C32,C33,C34,C37,C38,C39,C42,C43)=0,"",N(C20)+N(C21)+N(C22)+N(C23)) | D24: =IF(C24="","",C24-B24) | E24: =IF(OR(C24="",B24=0),"",(C24-B24)/ABS(B24))
A25: Prime cost (coût matières + personnel) | B25: =INDEX('Budget'!$B$22:$M$22,$B$4) -> 42932.4 | C25: =IF(COUNT(C8,C10,C11,C12,C15,C16,C20,C21,C22,C23,C27,C28,C29,C30,C31,C32,C33,C34,C37,C38,C39,C42,C43)=0,"",N(C17)+N(C24)) | D25: =IF(C25="","",C25-B25) | E25: =IF(OR(C25="",B25=0),"",(C25-B25)/ABS(B25))
A26: Frais d’exploitation
A27: Frais de carte bancaire | B27: =INDEX('Budget'!$B$24:$M$24,$B$4) -> 873.6 | D27: =IF(C27="","",C27-B27) | E27: =IF(OR(C27="",B27=0),"",(C27-B27)/ABS(B27))
A28: Marketing | B28: =INDEX('Budget'!$B$25:$M$25,$B$4) -> 1100 | D28: =IF(C28="","",C28-B28) | E28: =IF(OR(C28="",B28=0),"",(C28-B28)/ABS(B28))
A29: Entretien et réparations | B29: =INDEX('Budget'!$B$26:$M$26,$B$4) -> 850 | D29: =IF(C29="","",C29-B29) | E29: =IF(OR(C29="",B29=0),"",(C29-B29)/ABS(B29))
A30: Petit matériel et fournitures | B30: =INDEX('Budget'!$B$27:$M$27,$B$4) -> 600 | D30: =IF(C30="","",C30-B30) | E30: =IF(OR(C30="",B30=0),"",(C30-B30)/ABS(B30))
A31: Nettoyage et blanchisserie | B31: =INDEX('Budget'!$B$28:$M$28,$B$4) -> 850 | D31: =IF(C31="","",C31-B31) | E31: =IF(OR(C31="",B31=0),"",(C31-B31)/ABS(B31))
A32: Énergie et eau | B32: =INDEX('Budget'!$B$29:$M$29,$B$4) -> 2700 | D32: =IF(C32="","",C32-B32) | E32: =IF(OR(C32="",B32=0),"",(C32-B32)/ABS(B32))
A33: Logiciels et abonnements | B33: =INDEX('Budget'!$B$30:$M$30,$B$4) -> 600 | D33: =IF(C33="","",C33-B33) | E33: =IF(OR(C33="",B33=0),"",(C33-B33)/ABS(B33))
A34: Comptabilité et juridique | B34: =INDEX('Budget'!$B$31:$M$31,$B$4) -> 750 | D34: =IF(C34="","",C34-B34) | E34: =IF(OR(C34="",B34=0),"",(C34-B34)/ABS(B34))
A35: Frais d’exploitation totaux | B35: =INDEX('Budget'!$B$32:$M$32,$B$4) -> 8323.6 | C35: =IF(COUNT(C8,C10,C11,C12,C15,C16,C20,C21,C22,C23,C27,C28,C29,C30,C31,C32,C33,C34,C37,C38,C39,C42,C43)=0,"",N(C27)+N(C28)+N(C29)+N(C30)+N(C31)+N(C32)+N(C33)+N(C34)) | D35: =IF(C35="","",C35-B35) | E35: =IF(OR(C35="",B35=0),"",(C35-B35)/ABS(B35))
A36: Locaux
A37: Loyer | B37: =INDEX('Budget'!$B$34:$M$34,$B$4) -> 6800 | D37: =IF(C37="","",C37-B37) | E37: =IF(OR(C37="",B37=0),"",(C37-B37)/ABS(B37))
A38: Taxe foncière et charges | B38: =INDEX('Budget'!$B$35:$M$35,$B$4) -> 950 | D38: =IF(C38="","",C38-B38) | E38: =IF(OR(C38="",B38=0),"",(C38-B38)/ABS(B38))
A39: Assurances | B39: =INDEX('Budget'!$B$36:$M$36,$B$4) -> 450 | D39: =IF(C39="","",C39-B39) | E39: =IF(OR(C39="",B39=0),"",(C39-B39)/ABS(B39))
A40: Locaux total | B40: =INDEX('Budget'!$B$37:$M$37,$B$4) -> 8200 | C40: =IF(COUNT(C8,C10,C11,C12,C15,C16,C20,C21,C22,C23,C27,C28,C29,C30,C31,C32,C33,C34,C37,C38,C39,C42,C43)=0,"",N(C37)+N(C38)+N(C39)) | D40: =IF(C40="","",C40-B40) | E40: =IF(OR(C40="",B40=0),"",(C40-B40)/ABS(B40))
A41: Résultat d’exploitation (EBITDA) | B41: =INDEX('Budget'!$B$38:$M$38,$B$4) -> -4856 | C41: =IF(COUNT(C8,C10,C11,C12,C15,C16,C20,C21,C22,C23,C27,C28,C29,C30,C31,C32,C33,C34,C37,C38,C39,C42,C43)=0,"",N(C18)-N(C24)-N(C35)-N(C40)) | D41: =IF(C41="","",C41-B41) | E41: =IF(OR(C41="",B41=0),"",(C41-B41)/ABS(B41))
A42: Amortissements | B42: =INDEX('Budget'!$B$39:$M$39,$B$4) -> 1500 | D42: =IF(C42="","",C42-B42) | E42: =IF(OR(C42="",B42=0),"",(C42-B42)/ABS(B42))
...

Sheet Utilisation
A1: Budget prévisionnel de restaurant
A2: Un budget d’exploitation sur 12 mois pour un restaurant indépendant, rempli avec un exemple : 70 couverts, ouvert six jours sur sept, cuisine et bar.
A4: Les cellules jaunes sont à remplir. Tout le reste se calcule.
A6: Mode d’emploi
A7: 1. Commencez par la feuille Hypothèses : jours d’ouverture, couverts par jour et dépense moyenne par couvert, mois par mois, à partir des rapports de ventes de l’an dernier.
A8: 2. Fixez vos taux de coût : coût matières cuisine et boissons en part de leurs ventes, charges sociales en part des salaires, frais de carte en part du chiffre d’affaires.
A9: 3. Sur la feuille Budget, remplacez les chiffres jaunes par vos salaires, votre loyer et vos frais. Les ventes, le coût matières, les charges sociales et les frais de carte se calculent seuls.
A10: 4. Vérifiez les ratios clés en bas : prime cost, coût du personnel et marge nette. S’ils ne tiennent pas, modifiez le plan maintenant, pas en septembre.
A11: 5. Chaque mois, ouvrez Budget vs réel, indiquez le numéro du mois et saisissez les chiffres réels de votre compte de résultat.
A12: 6. Examinez tout poste qui s’écarte de plus de 5 % ou de quelques centaines du budget, et mettez à jour les mois restants quand un changement est durable.
A14: Les chiffres de l’exemple sont illustratifs, pas des références pour votre restaurant. Un outil de planification, pas un conseil fiscal ou comptable.
A15: Guide complet: https://www.tableview.com/fr/blog/budget-previsionnel-restaurant/
